BEGIN:VCALENDAR
VERSION:2.0
PRODID: -//Q4 Inc.//EN
METHOD:PUBLISH
BEGIN:VTIMEZONE
TZID:America/New_York
X-LIC-LOCATION:America/New_York
BEGIN:DAYLIGHT
TZOFFSETFROM:-0500
TZOFFSETTO:-0400
TZNAME:EDT
DTSTART:19700308T020000
RRULE:FREQ=YEARLY;BYMONTH=3;BYDAY=2SU
END:DAYLIGHT
BEGIN:STANDARD
TZOFFSETFROM:-0400
TZOFFSETTO:-0500
TZNAME:EST
DTSTART:19701101T020000
RRULE:FREQ=YEARLY;BYMONTH=11;BYDAY=1SU
END:STANDARD
END:VTIMEZONE
BEGIN:VEVENT
ORGANIZER:MAILTO:noreply@newmont.com
DTSTART;TZID="America/New_York":20240222T100000
DTEND;TZID="America/New_York":20240222T113000
LOCATION:
UID:ed8f87a1-0c9a-4535-ade7-c75b16930af3
DTSTAMP:20260423T153109
SUMMARY:Newmont Fourth Quarter 2023 Results and 2024 Guidance Conference Call (10:00am EST)
DESCRIPTION: View More Information: https://www.newmont.com/investors/events-and-presentations/event-details/2024/Newmont-Fourth-Quarter-2023-Results-and-2024-Guidance-Conference-Call/default.aspx
URL;VALUE=URI:https://www.newmont.com/investors/events-and-presentations/event-details/2024/Newmont-Fourth-Quarter-2023-Results-and-2024-Guidance-Conference-Call/default.aspx
PRIORITY:5
CLASS:PUBLIC
END:VEVENT
END:VCALENDAR
